BEGIN:VCALENDAR
PRODID:-//gdesolutions.com//MV Framework 1.0.0.1782 Calendar//EN
VERSION:2.0
METHOD:PUBLISH
CALSCALE:GREGORIAN
BEGIN:VEVENT
UID:giq3d@games.golnetwork.com
LOCATION:CVM - Court #1
GEO:45.5146585;-73.5658635
CREATED:20250528T152622Z
DTSTART:20250914T220000Z
DTEND:20250914T230000Z
DTSTAMP:20260420T033514Z
SUMMARY:BATTALION vs. LAN DAWOOD
DESCRIPTION:LAN DAWOOD vs. BATTALIONPlus d'info : #428
X-ALT-DESC;FMTTYPE=text/html:<!DOCTYPE HTML PUBLIC "-//W3C//DTD HTML 3.2//E
	N">\n<HTML>\n<HEAD>\n<TITLE></TITLE>\n</HEAD>\n<BODY>\n<h3>LAN DAWOOD vs. B
	ATTALION</h3>Plus d'info : <a href="http://www.golnetwork.com/game/v/185672
	/">#428</a>\n\n</BODY>\n</HTML>
STATUS:CONFIRMED
CLASS:PUBLIC
URL:http://www.golnetwork.com/game/v/185672/
X-MICROSOFT-CDO-BUSYSTATUS:BUSY
X-MICROSOFT-CDO-IMPORTANCE:1
END:VEVENT
BEGIN:VEVENT
UID:giq2o@games.golnetwork.com
LOCATION:CVM - Court #1
GEO:45.5146585;-73.5658635
CREATED:20250528T152622Z
DTSTART:20250908T000000Z
DTEND:20250908T010000Z
DTSTAMP:20260420T033514Z
SUMMARY:LAN DAWOOD vs. JEDI BALLERS
DESCRIPTION:JEDI BALLERS vs. LAN DAWOODPlus d'info : #399
X-ALT-DESC;FMTTYPE=text/html:<!DOCTYPE HTML PUBLIC "-//W3C//DTD HTML 3.2//E
	N">\n<HTML>\n<HEAD>\n<TITLE></TITLE>\n</HEAD>\n<BODY>\n<h3>JEDI BALLERS vs.
	 LAN DAWOOD</h3>Plus d'info : <a href="http://www.golnetwork.com/game/v/185
	664/">#399</a>\n\n</BODY>\n</HTML>
STATUS:CONFIRMED
CLASS:PUBLIC
URL:http://www.golnetwork.com/game/v/185664/
X-MICROSOFT-CDO-BUSYSTATUS:BUSY
X-MICROSOFT-CDO-IMPORTANCE:1
END:VEVENT
BEGIN:VEVENT
UID:giq2c@games.golnetwork.com
LOCATION:CVM - Court #1
GEO:45.5146585;-73.5658635
CREATED:20250528T152622Z
DTSTART:20250824T220000Z
DTEND:20250824T230000Z
DTSTAMP:20260420T033514Z
SUMMARY:LAN DAWOOD vs. LYCANS
DESCRIPTION:LYCANS vs. LAN DAWOODPlus d'info : #349
X-ALT-DESC;FMTTYPE=text/html:<!DOCTYPE HTML PUBLIC "-//W3C//DTD HTML 3.2//E
	N">\n<HTML>\n<HEAD>\n<TITLE></TITLE>\n</HEAD>\n<BODY>\n<h3>LYCANS vs. LAN D
	AWOOD</h3>Plus d'info : <a href="http://www.golnetwork.com/game/v/185658/">
	#349</a>\n\n</BODY>\n</HTML>
STATUS:CONFIRMED
CLASS:PUBLIC
URL:http://www.golnetwork.com/game/v/185658/
X-MICROSOFT-CDO-BUSYSTATUS:BUSY
X-MICROSOFT-CDO-IMPORTANCE:1
END:VEVENT
BEGIN:VEVENT
UID:giq20@games.golnetwork.com
LOCATION:CVM - Court #1
GEO:45.5146585;-73.5658635
CREATED:20250528T152622Z
DTSTART:20250817T220000Z
DTEND:20250817T230000Z
DTSTAMP:20260420T033514Z
SUMMARY:LAN DAWOOD vs. LES ÉRABLES SUCRÉS
DESCRIPTION:LES ÉRABLES SUCRÉS vs. LAN DAWOODPlus d'info : #316
X-ALT-DESC;FMTTYPE=text/html:<!DOCTYPE HTML PUBLIC "-//W3C//DTD HTML 3.2//E
	N">\n<HTML>\n<HEAD>\n<TITLE></TITLE>\n</HEAD>\n<BODY>\n<h3>LES ÉRABLES SUC
	RÉS vs. LAN DAWOOD</h3>Plus d'info : <a href="http://www.golnetwork.com/ga
	me/v/185652/">#316</a>\n\n</BODY>\n</HTML>
STATUS:CONFIRMED
CLASS:PUBLIC
URL:http://www.golnetwork.com/game/v/185652/
X-MICROSOFT-CDO-BUSYSTATUS:BUSY
X-MICROSOFT-CDO-IMPORTANCE:1
END:VEVENT
BEGIN:VEVENT
UID:giq1f@games.golnetwork.com
LOCATION:CVM - Court #1
GEO:45.5146585;-73.5658635
CREATED:20250528T152622Z
DTSTART:20250810T210000Z
DTEND:20250810T220000Z
DTSTAMP:20260420T033514Z
SUMMARY:LAN DAWOOD vs. BATTALION
DESCRIPTION:BATTALION vs. LAN DAWOODPlus d'info : #283
X-ALT-DESC;FMTTYPE=text/html:<!DOCTYPE HTML PUBLIC "-//W3C//DTD HTML 3.2//E
	N">\n<HTML>\n<HEAD>\n<TITLE></TITLE>\n</HEAD>\n<BODY>\n<h3>BATTALION vs. LA
	N DAWOOD</h3>Plus d'info : <a href="http://www.golnetwork.com/game/v/185646
	/">#283</a>\n\n</BODY>\n</HTML>
STATUS:CONFIRMED
CLASS:PUBLIC
URL:http://www.golnetwork.com/game/v/185646/
X-MICROSOFT-CDO-BUSYSTATUS:BUSY
X-MICROSOFT-CDO-IMPORTANCE:1
END:VEVENT
BEGIN:VEVENT
UID:giq13@games.golnetwork.com
LOCATION:CVM - Court #1
GEO:45.5146585;-73.5658635
CREATED:20250528T152622Z
DTSTART:20250804T000000Z
DTEND:20250804T010000Z
DTSTAMP:20260420T033514Z
SUMMARY:LAN DAWOOD vs. THE LAST DANCE
DESCRIPTION:THE LAST DANCE vs. LAN DAWOODPlus d'info : #258
X-ALT-DESC;FMTTYPE=text/html:<!DOCTYPE HTML PUBLIC "-//W3C//DTD HTML 3.2//E
	N">\n<HTML>\n<HEAD>\n<TITLE></TITLE>\n</HEAD>\n<BODY>\n<h3>THE LAST DANCE v
	s. LAN DAWOOD</h3>Plus d'info : <a href="http://www.golnetwork.com/game/v/1
	85640/">#258</a>\n\n</BODY>\n</HTML>
STATUS:CONFIRMED
CLASS:PUBLIC
URL:http://www.golnetwork.com/game/v/185640/
X-MICROSOFT-CDO-BUSYSTATUS:BUSY
X-MICROSOFT-CDO-IMPORTANCE:1
END:VEVENT
BEGIN:VEVENT
UID:giq0i@games.golnetwork.com
LOCATION:CVM - Court #1
GEO:45.5146585;-73.5658635
CREATED:20250528T152622Z
DTSTART:20250727T220000Z
DTEND:20250727T230000Z
DTSTAMP:20260420T033514Z
SUMMARY:LAN DAWOOD vs. SPARE BALLS
DESCRIPTION:SPARE BALLS vs. LAN DAWOODPlus d'info : #220
X-ALT-DESC;FMTTYPE=text/html:<!DOCTYPE HTML PUBLIC "-//W3C//DTD HTML 3.2//E
	N">\n<HTML>\n<HEAD>\n<TITLE></TITLE>\n</HEAD>\n<BODY>\n<h3>SPARE BALLS vs. 
	LAN DAWOOD</h3>Plus d'info : <a href="http://www.golnetwork.com/game/v/1856
	34/">#220</a>\n\n</BODY>\n</HTML>
STATUS:CONFIRMED
CLASS:PUBLIC
URL:http://www.golnetwork.com/game/v/185634/
X-MICROSOFT-CDO-BUSYSTATUS:BUSY
X-MICROSOFT-CDO-IMPORTANCE:1
END:VEVENT
BEGIN:VEVENT
UID:giq04@games.golnetwork.com
LOCATION:CVM - Court #1
GEO:45.5146585;-73.5658635
CREATED:20250528T152622Z
DTSTART:20250720T220000Z
DTEND:20250720T230000Z
DTSTAMP:20260420T033514Z
SUMMARY:OPTIMATES vs. LAN DAWOOD
DESCRIPTION:LAN DAWOOD vs. OPTIMATESPlus d'info : #189
X-ALT-DESC;FMTTYPE=text/html:<!DOCTYPE HTML PUBLIC "-//W3C//DTD HTML 3.2//E
	N">\n<HTML>\n<HEAD>\n<TITLE></TITLE>\n</HEAD>\n<BODY>\n<h3>LAN DAWOOD vs. O
	PTIMATES</h3>Plus d'info : <a href="http://www.golnetwork.com/game/v/185627
	/">#189</a>\n\n</BODY>\n</HTML>
STATUS:CONFIRMED
CLASS:PUBLIC
URL:http://www.golnetwork.com/game/v/185627/
X-MICROSOFT-CDO-BUSYSTATUS:BUSY
X-MICROSOFT-CDO-IMPORTANCE:1
END:VEVENT
BEGIN:VEVENT
UID:gipqf@games.golnetwork.com
LOCATION:CVM - Court #1
GEO:45.5146585;-73.5658635
CREATED:20250528T152622Z
DTSTART:20250714T000000Z
DTEND:20250714T010000Z
DTSTAMP:20260420T033514Z
SUMMARY:90'S LEGENDS vs. LAN DAWOOD
DESCRIPTION:LAN DAWOOD vs. 90'S LEGENDSPlus d'info : #162
X-ALT-DESC;FMTTYPE=text/html:<!DOCTYPE HTML PUBLIC "-//W3C//DTD HTML 3.2//E
	N">\n<HTML>\n<HEAD>\n<TITLE></TITLE>\n</HEAD>\n<BODY>\n<h3>LAN DAWOOD vs. 9
	0'S LEGENDS</h3>Plus d'info : <a href="http://www.golnetwork.com/game/v/185
	619/">#162</a>\n\n</BODY>\n</HTML>
STATUS:CONFIRMED
CLASS:PUBLIC
URL:http://www.golnetwork.com/game/v/185619/
X-MICROSOFT-CDO-BUSYSTATUS:BUSY
X-MICROSOFT-CDO-IMPORTANCE:1
END:VEVENT
BEGIN:VEVENT
UID:gippq@games.golnetwork.com
LOCATION:SELWYN HOUSE
CREATED:20250528T152622Z
DTSTART:20250707T010000Z
DTEND:20250707T020000Z
DTSTAMP:20260420T033514Z
SUMMARY:AGBU vs. LAN DAWOOD
DESCRIPTION:LAN DAWOOD vs. AGBUPlus d'info : #132
X-ALT-DESC;FMTTYPE=text/html:<!DOCTYPE HTML PUBLIC "-//W3C//DTD HTML 3.2//E
	N">\n<HTML>\n<HEAD>\n<TITLE></TITLE>\n</HEAD>\n<BODY>\n<h3>LAN DAWOOD vs. A
	GBU</h3>Plus d'info : <a href="http://www.golnetwork.com/game/v/185611/">#1
	32</a>\n\n</BODY>\n</HTML>
STATUS:CONFIRMED
CLASS:PUBLIC
URL:http://www.golnetwork.com/game/v/185611/
X-MICROSOFT-CDO-BUSYSTATUS:BUSY
X-MICROSOFT-CDO-IMPORTANCE:1
END:VEVENT
BEGIN:VEVENT
UID:gippa@games.golnetwork.com
LOCATION:SELWYN HOUSE
CREATED:20250528T152622Z
DTSTART:20250629T230000Z
DTEND:20250630T000000Z
DTSTAMP:20260420T033514Z
SUMMARY:BLUE BALLERS vs. LAN DAWOOD
DESCRIPTION:LAN DAWOOD vs. BLUE BALLERSPlus d'info : #96
X-ALT-DESC;FMTTYPE=text/html:<!DOCTYPE HTML PUBLIC "-//W3C//DTD HTML 3.2//E
	N">\n<HTML>\n<HEAD>\n<TITLE></TITLE>\n</HEAD>\n<BODY>\n<h3>LAN DAWOOD vs. B
	LUE BALLERS</h3>Plus d'info : <a href="http://www.golnetwork.com/game/v/185
	603/">#96</a>\n\n</BODY>\n</HTML>
STATUS:CONFIRMED
CLASS:PUBLIC
URL:http://www.golnetwork.com/game/v/185603/
X-MICROSOFT-CDO-BUSYSTATUS:BUSY
X-MICROSOFT-CDO-IMPORTANCE:1
END:VEVENT
BEGIN:VEVENT
UID:gipol@games.golnetwork.com
LOCATION:CVM - Court #1
GEO:45.5146585;-73.5658635
CREATED:20250528T152622Z
DTSTART:20250622T210000Z
DTEND:20250622T220000Z
DTSTAMP:20260420T033514Z
SUMMARY:BRICKLAYERS vs. LAN DAWOOD
DESCRIPTION:LAN DAWOOD vs. BRICKLAYERSPlus d'info : #65
X-ALT-DESC;FMTTYPE=text/html:<!DOCTYPE HTML PUBLIC "-//W3C//DTD HTML 3.2//E
	N">\n<HTML>\n<HEAD>\n<TITLE></TITLE>\n</HEAD>\n<BODY>\n<h3>LAN DAWOOD vs. B
	RICKLAYERS</h3>Plus d'info : <a href="http://www.golnetwork.com/game/v/1855
	95/">#65</a>\n\n</BODY>\n</HTML>
STATUS:CONFIRMED
CLASS:PUBLIC
URL:http://www.golnetwork.com/game/v/185595/
X-MICROSOFT-CDO-BUSYSTATUS:BUSY
X-MICROSOFT-CDO-IMPORTANCE:1
END:VEVENT
BEGIN:VEVENT
UID:gipo5@games.golnetwork.com
LOCATION:CVM - Court #1
GEO:45.5146585;-73.5658635
CREATED:20250528T152622Z
DTSTART:20250616T000000Z
DTEND:20250616T010000Z
DTSTAMP:20260420T033514Z
SUMMARY:ARKOUNDIA BC vs. LAN DAWOOD
DESCRIPTION:LAN DAWOOD vs. ARKOUNDIA BCPlus d'info : #40
X-ALT-DESC;FMTTYPE=text/html:<!DOCTYPE HTML PUBLIC "-//W3C//DTD HTML 3.2//E
	N">\n<HTML>\n<HEAD>\n<TITLE></TITLE>\n</HEAD>\n<BODY>\n<h3>LAN DAWOOD vs. A
	RKOUNDIA BC</h3>Plus d'info : <a href="http://www.golnetwork.com/game/v/185
	587/">#40</a>\n\n</BODY>\n</HTML>
STATUS:CONFIRMED
CLASS:PUBLIC
URL:http://www.golnetwork.com/game/v/185587/
X-MICROSOFT-CDO-BUSYSTATUS:BUSY
X-MICROSOFT-CDO-IMPORTANCE:1
END:VEVENT
BEGIN:VEVENT
UID:gipng@games.golnetwork.com
LOCATION:CVM - Court #1
GEO:45.5146585;-73.5658635
CREATED:20250528T152622Z
DTSTART:20250608T220000Z
DTEND:20250608T230000Z
DTSTAMP:20260420T033514Z
SUMMARY:LISAN AL GAIB vs. LAN DAWOOD
DESCRIPTION:LAN DAWOOD vs. LISAN AL GAIBPlus d'info : #6
X-ALT-DESC;FMTTYPE=text/html:<!DOCTYPE HTML PUBLIC "-//W3C//DTD HTML 3.2//E
	N">\n<HTML>\n<HEAD>\n<TITLE></TITLE>\n</HEAD>\n<BODY>\n<h3>LAN DAWOOD vs. L
	ISAN AL GAIB</h3>Plus d'info : <a href="http://www.golnetwork.com/game/v/18
	5579/">#6</a>\n\n</BODY>\n</HTML>
STATUS:CONFIRMED
CLASS:PUBLIC
URL:http://www.golnetwork.com/game/v/185579/
X-MICROSOFT-CDO-BUSYSTATUS:BUSY
X-MICROSOFT-CDO-IMPORTANCE:1
END:VEVENT
END:VCALENDAR
