BEGIN:VCALENDAR
PRODID:-//gdesolutions.com//MV Framework 1.0.0.1782 Calendar//EN
VERSION:2.0
METHOD:PUBLISH
CALSCALE:GREGORIAN
BEGIN:VEVENT
UID:gj3fh@games.golnetwork.com
LOCATION:CVM - Court #1
GEO:45.5146585;-73.5658635
CREATED:20250723T141913Z
DTSTART:20251021T233000Z
DTEND:20251022T003000Z
DTSTAMP:20260420T033514Z
SUMMARY:BRICKLAYERS vs. LAN DAWOOD
DESCRIPTION:LAN DAWOOD vs. BRICKLAYERSPlus d'info : #510
X-ALT-DESC;FMTTYPE=text/html:<!DOCTYPE HTML PUBLIC "-//W3C//DTD HTML 3.2//E
	N">\n<HTML>\n<HEAD>\n<TITLE></TITLE>\n</HEAD>\n<BODY>\n<h3>LAN DAWOOD vs. B
	RICKLAYERS</h3>Plus d'info : <a href="http://www.golnetwork.com/game/v/1872
	94/">#510</a>\n\n</BODY>\n</HTML>
STATUS:CONFIRMED
CLASS:PUBLIC
URL:http://www.golnetwork.com/game/v/187294/
X-MICROSOFT-CDO-BUSYSTATUS:BUSY
X-MICROSOFT-CDO-IMPORTANCE:1
END:VEVENT
BEGIN:VEVENT
UID:gj3ff@games.golnetwork.com
LOCATION:CVM - Court #1
GEO:45.5146585;-73.5658635
CREATED:20250723T141913Z
DTSTART:20251015T233000Z
DTEND:20251016T003000Z
DTSTAMP:20260420T033514Z
SUMMARY:AGBU vs. LAN DAWOOD
DESCRIPTION:LAN DAWOOD vs. AGBUPlus d'info : #506
X-ALT-DESC;FMTTYPE=text/html:<!DOCTYPE HTML PUBLIC "-//W3C//DTD HTML 3.2//E
	N">\n<HTML>\n<HEAD>\n<TITLE></TITLE>\n</HEAD>\n<BODY>\n<h3>LAN DAWOOD vs. A
	GBU</h3>Plus d'info : <a href="http://www.golnetwork.com/game/v/187293/">#5
	06</a>\n\n</BODY>\n</HTML>
STATUS:CONFIRMED
CLASS:PUBLIC
URL:http://www.golnetwork.com/game/v/187293/
X-MICROSOFT-CDO-BUSYSTATUS:BUSY
X-MICROSOFT-CDO-IMPORTANCE:1
END:VEVENT
BEGIN:VEVENT
UID:gj66b@games.golnetwork.com
LOCATION:CVM - Court #1
GEO:45.5146585;-73.5658635
CREATED:20251001T183555Z
DTSTART:20251009T013000Z
DTEND:20251009T023000Z
DTSTAMP:20260420T033514Z
SUMMARY:THE LAST DANCE vs. LAN DAWOOD
DESCRIPTION:LAN DAWOOD vs. THE LAST DANCEPlus d'info : #497
X-ALT-DESC;FMTTYPE=text/html:<!DOCTYPE HTML PUBLIC "-//W3C//DTD HTML 3.2//E
	N">\n<HTML>\n<HEAD>\n<TITLE></TITLE>\n</HEAD>\n<BODY>\n<h3>LAN DAWOOD vs. T
	HE LAST DANCE</h3>Plus d'info : <a href="http://www.golnetwork.com/game/v/1
	88263/">#497</a>\n\n</BODY>\n</HTML>
STATUS:CONFIRMED
CLASS:PUBLIC
URL:http://www.golnetwork.com/game/v/188263/
X-MICROSOFT-CDO-BUSYSTATUS:BUSY
X-MICROSOFT-CDO-IMPORTANCE:1
END:VEVENT
END:VCALENDAR
