BEGIN:VCALENDAR
PRODID:-//gdesolutions.com//MV Framework 1.0.0.1782 Calendar//EN
VERSION:2.0
METHOD:PUBLISH
CALSCALE:GREGORIAN
BEGIN:VEVENT
UID:ggfeb@games.golnetwork.com
LOCATION:Matt Anthony Field #2
GEO:45.4196785;-75.6767132
CREATED:20220829T001858Z
DTSTART:20220831T000000Z
DTEND:20220831T013000Z
DTSTAMP:20260420T040543Z
SUMMARY:Strangers United vs. Goal Diggers
DESCRIPTION:Goal Diggers vs. Strangers UnitedMore info: #106
X-ALT-DESC;FMTTYPE=text/html:<!DOCTYPE HTML PUBLIC "-//W3C//DTD HTML 3.2//E
	N">\n<HTML>\n<HEAD>\n<TITLE></TITLE>\n</HEAD>\n<BODY>\n<h3>Goal Diggers vs.
	 Strangers United</h3>More info: <a href="http://www.golnetwork.com/game/v/
	162127/">#106</a>\n\n</BODY>\n</HTML>
STATUS:CONFIRMED
CLASS:PUBLIC
URL:http://www.golnetwork.com/game/v/162127/
X-MICROSOFT-CDO-BUSYSTATUS:BUSY
X-MICROSOFT-CDO-IMPORTANCE:1
END:VEVENT
BEGIN:VEVENT
UID:ggfe7@games.golnetwork.com
LOCATION:Matt Anthony Field #2
GEO:45.4196785;-75.6767132
CREATED:20220829T000017Z
DTSTART:20220824T000000Z
DTEND:20220824T013000Z
DTSTAMP:20260420T040543Z
SUMMARY:Strangers United vs. Hungry House Hippos!
DESCRIPTION:Hungry House Hippos! vs. Strangers UnitedMore info: #98
X-ALT-DESC;FMTTYPE=text/html:<!DOCTYPE HTML PUBLIC "-//W3C//DTD HTML 3.2//E
	N">\n<HTML>\n<HEAD>\n<TITLE></TITLE>\n</HEAD>\n<BODY>\n<h3>Hungry House Hip
	pos! vs. Strangers United</h3>More info: <a href="http://www.golnetwork.com
	/game/v/162125/">#98</a>\n\n</BODY>\n</HTML>
STATUS:CONFIRMED
CLASS:PUBLIC
URL:http://www.golnetwork.com/game/v/162125/
X-MICROSOFT-CDO-BUSYSTATUS:BUSY
X-MICROSOFT-CDO-IMPORTANCE:1
END:VEVENT
BEGIN:VEVENT
UID:ggf5k@games.golnetwork.com
LOCATION:Matt Anthony Field #1
GEO:45.4196785;-75.6767132
CREATED:20220814T000725Z
DTSTART:20220817T000000Z
DTEND:20220817T013000Z
DTSTAMP:20260420T040543Z
SUMMARY:Astro FC vs. Strangers United
DESCRIPTION:Strangers United vs. Astro FCMore info: #89
X-ALT-DESC;FMTTYPE=text/html:<!DOCTYPE HTML PUBLIC "-//W3C//DTD HTML 3.2//E
	N">\n<HTML>\n<HEAD>\n<TITLE></TITLE>\n</HEAD>\n<BODY>\n<h3>Strangers United
	 vs. Astro FC</h3>More info: <a href="http://www.golnetwork.com/game/v/1620
	10/">#89</a>\n\n</BODY>\n</HTML>
STATUS:CONFIRMED
CLASS:PUBLIC
URL:http://www.golnetwork.com/game/v/162010/
X-MICROSOFT-CDO-BUSYSTATUS:BUSY
X-MICROSOFT-CDO-IMPORTANCE:1
END:VEVENT
END:VCALENDAR
